BEGIN:VCALENDAR
VERSION:2.0
PRODID:-//Ak Entrepreneurship Week - ECPv6.15.20//NONSGML v1.0//EN
CALSCALE:GREGORIAN
METHOD:PUBLISH
X-ORIGINAL-URL:https://akew.org
X-WR-CALDESC:Events for Ak Entrepreneurship Week
REFRESH-INTERVAL;VALUE=DURATION:PT1H
X-Robots-Tag:noindex
X-PUBLISHED-TTL:PT1H
BEGIN:VTIMEZONE
TZID:America/Anchorage
BEGIN:DAYLIGHT
TZOFFSETFROM:-0900
TZOFFSETTO:-0800
TZNAME:AKDT
DTSTART:20240310T110000
END:DAYLIGHT
BEGIN:STANDARD
TZOFFSETFROM:-0800
TZOFFSETTO:-0900
TZNAME:AKST
DTSTART:20241103T100000
END:STANDARD
BEGIN:DAYLIGHT
TZOFFSETFROM:-0900
TZOFFSETTO:-0800
TZNAME:AKDT
DTSTART:20250309T110000
END:DAYLIGHT
BEGIN:STANDARD
TZOFFSETFROM:-0800
TZOFFSETTO:-0900
TZNAME:AKST
DTSTART:20251102T100000
END:STANDARD
BEGIN:DAYLIGHT
TZOFFSETFROM:-0900
TZOFFSETTO:-0800
TZNAME:AKDT
DTSTART:20260308T110000
END:DAYLIGHT
BEGIN:STANDARD
TZOFFSETFROM:-0800
TZOFFSETTO:-0900
TZNAME:AKST
DTSTART:20261101T100000
END:STANDARD
END:VTIMEZONE
BEGIN:VEVENT
DTSTART;TZID=America/Anchorage:20251001T090000
DTEND;TZID=America/Anchorage:20251001T120000
DTSTAMP:20260421T132720
CREATED:20250922T222349Z
LAST-MODIFIED:20250922T223659Z
UID:10000444-1759309200-1759320000@akew.org
SUMMARY:Barebones Bookkeeping & Bookkeeping Blunders
DESCRIPTION:[et_pb_section fb_built=”1″ custom_padding_last_edited=”off|desktop” admin_label=”Hero” _builder_version=”4.16″ use_background_color_gradient=”on” background_color_gradient_stops=”#ffffff 0%|#e7edf9 100%” background_color_gradient_start=”#ffffff” background_color_gradient_end=”#e7edf9″ custom_margin=”|||” custom_padding=”100px||100px|” custom_padding_tablet=”130px||130px|” global_colors_info=”{}”][et_pb_row _builder_version=”4.27.4″ _module_preset=”default” global_colors_info=”{}”][et_pb_column type=”4_4″ _builder_version=”4.27.4″ _module_preset=”default” global_colors_info=”{}”][et_pb_text _builder_version=”4.27.4″ text_font=”||||||||” text_font_size=”20px” text_line_height=”1.8em” custom_margin=”25px|||” animation_style=”flip” animation_direction=”top” animation_delay=”100ms” global_colors_info=”{}”] \nI get my taxes done\, but don’t understand my finances.  Will this help me understand my business finances?   Yes! \nJoin us on Wednesday\, October 1\, 2025\, from 9:00 am to 12:00 pm for “Barebones Bookkeeping & Bookkeeping Blunders – Wasilla.” This In Person workshop is being offered at the Mat-Su Small Business Development Center (Mat-Su SBDC) Training Room in Wasilla\, Alaska\, and is presented by our very own Kristi McDonnell\, Business Advisor at the Mat-Su SBDC. \nDuring this workshop\, Kristi will walk you through the basics of bookkeeping and will help you avoid certain blunders that could be detrimental to your business operations. \nDuring this workshop\, you will learn: \n\nThe importance of understanding your Balance Sheet and Profit & Loss statements.\nIssues that show up on financials that slow down the lending process.\nForms of mistakes and theft that cost business owners money.\n\n  \nREGISTER HERE \nAdditional information HERE \n[/et_pb_text][et_pb_social_media_follow _builder_version=”4.27.4″ text_orientation=”center” locked=”off” global_colors_info=”{}”][et_pb_social_media_follow_network social_network=”facebook” url=”https://www.facebook.com/1MillionCupsAnchorage” _builder_version=”4.27.4″ background_color=”#181819″ global_colors_info=”{}” follow_button=”off” url_new_window=”on”]facebook[/et_pb_social_media_follow_network][/et_pb_social_media_follow][/et_pb_column][/et_pb_row][/et_pb_section][et_pb_section fb_built=”1″ admin_label=”Speakers” _builder_version=”4.16″ custom_padding=”90px||90px|” animation_style=”zoom” animation_intensity_zoom=”10%” global_colors_info=”{}”][et_pb_row column_structure=”1_3\,2_3″ _builder_version=”4.16″ custom_margin=”|||” custom_padding=”40px|0px|40px|0px” global_colors_info=”{}”][et_pb_column type=”1_3″ _builder_version=”4.16″ custom_padding=”|||” global_colors_info=”{}” custom_padding__hover=”|||”][et_pb_image src=”https://akew.org/wp-content/uploads/2025/09/Kristi-McDonnell.jpg” title_text=”Kristi McDonnell” _builder_version=”4.27.4″ _module_preset=”default” global_colors_info=”{}”][/et_pb_image][/et_pb_column][et_pb_column type=”2_3″ _builder_version=”4.16″ custom_padding=”|||” global_colors_info=”{}” custom_padding__hover=”|||”][et_pb_text _builder_version=”4.27.4″ text_font=”||||||||” text_text_color=”#7e7f93″ text_font_size=”18px” header_font=”||||||||” header_3_font=”Merriweather|700|||||||” header_3_text_color=”#4646c4″ header_3_font_size=”36px” header_3_line_height=”1.4em” link_option_url=”https://www.linkedin.com/in/allancarraway/” link_option_url_new_window=”on” locked=”off” global_colors_info=”{}”] \nKristi McDonnell\nBusiness Advisor\, Small Business Development Center – Mat-Su \n  \n[/et_pb_text][et_pb_text _builder_version=”4.27.4″ _module_preset=”default” global_colors_info=”{}”] \nKristi is a seasoned small business professional with over 30 years of experience\, including running her own successful consulting business. She also spent 12 years in the oil and gas industry as a project controls professional and has broad experience in construction\, project controls\, and finance. Kristi lived in Bristol Bay for 10 years\, working alongside small contractors in Western Alaska\, where wearing many hats is essential. She brings a wide breadth of experience to our contractor and aviation community. \nHer superpowers are budgeting\, forecasting\, risk management\, and sorting out complex issues. \nKristi’s years in Bristol Bay gave her a deep understanding of Alaska’s logistical challenges and the resilience of its people. She is passionate about serving local businesses in the Mat-Su\, which she proudly refers to as the heartbeat of the valley. \n[/et_pb_text][/et_pb_column][/et_pb_row][/et_pb_section]
URL:https://akew.org/event/barebones-bookkeeping-bookkeeping-blunders
LOCATION:Small Business Development Center – Mat-Su\, 201 North Lucille St #2\, Wasilla\, AK\, 99654\, United States
CATEGORIES:1. Idea,2. Pre-Profit,3. Profit,4. Growth,In-Person,Workshops & Trainings
ATTACH;FMTTYPE=image/jpeg:https://akew.org/wp-content/uploads/2024/04/sbdc.jpg
END:VEVENT
BEGIN:VEVENT
DTSTART;TZID=America/Anchorage:20250930T090000
DTEND;TZID=America/Anchorage:20250930T140000
DTSTAMP:20260421T132720
CREATED:20250922T224022Z
LAST-MODIFIED:20250922T224034Z
UID:10000446-1759222800-1759240800@akew.org
SUMMARY:Getting Down to Business: Local Rules\, Resources\, & Readiness
DESCRIPTION:[et_pb_section fb_built=”1″ custom_padding_last_edited=”off|desktop” admin_label=”Hero” _builder_version=”4.16″ use_background_color_gradient=”on” background_color_gradient_stops=”#ffffff 0%|#e7edf9 100%” background_color_gradient_start=”#ffffff” background_color_gradient_end=”#e7edf9″ custom_margin=”|||” custom_padding=”100px||100px|” custom_padding_tablet=”130px||130px|” global_colors_info=”{}”][et_pb_row _builder_version=”4.27.4″ _module_preset=”default” global_colors_info=”{}”][et_pb_column type=”4_4″ _builder_version=”4.27.4″ _module_preset=”default” global_colors_info=”{}”][et_pb_text _builder_version=”4.27.4″ text_font=”||||||||” text_font_size=”20px” text_line_height=”1.8em” custom_margin=”25px|||” animation_style=”flip” animation_direction=”top” animation_delay=”100ms” hover_enabled=”0″ global_colors_info=”{}” sticky_enabled=”0″] \nJoin us on Tuesday\, September 30\, 2025\, from 9:00 am to 2:00 pm for “Getting Down to Business:  Local Rules\, Resources\, & Readiness – Wasilla.”  This FREE In Person workshop is being offered at the Mat-Su Small Business Development Center (Mat-Su SBDC) Training Room in Wasilla\, Alaska\, and is moderated by our very own Misty O’Connor\, Center Director at the Mat-Su SBDC. \nFor this engaging and action-packed workshop\, Mat-Su Center Director Misty O’Connor has assembled a team of leaders and professionals to answer questions every small business owner has about starting or growing their business\, leasing or buying land or a building\, and all the nuts and bolts behind the scenes of business operations. This workshop is jam-packed with all the right people to: \n\nEquip new business owners with critical knowledge on zoning\, permitting\, insurance\, financing\, and compliance before they launch.\nProvide direct access to local leaders and professionals\, so participants know who to call and why it matters.\nBuild a clear roadmap for sequencing startup tasks\, avoiding common mistakes that cost time and money.\nConnect attendees to the broader business support ecosystem in the Mat-Su Valley.\nEncourage community engagement and networking\, showing the value of collaboration and membership in organizations like your local Chamber of Commerce.\n\nMeet your Mat-Su Borough Mayor and Planning Department Director. Learn from expert bankers\, accountants\, insurance agents\, and realtors. Spend one-on-one time during our afternoon session meeting our guests and asking them specific questions related to your business. \n  \nREGISTER HERE \nAdditional information HERE \n[/et_pb_text][et_pb_social_media_follow _builder_version=”4.27.4″ text_orientation=”center” locked=”off” global_colors_info=”{}”][et_pb_social_media_follow_network social_network=”facebook” url=”https://www.facebook.com/1MillionCupsAnchorage” _builder_version=”4.27.4″ background_color=”#181819″ global_colors_info=”{}” follow_button=”off” url_new_window=”on”]facebook[/et_pb_social_media_follow_network][/et_pb_social_media_follow][/et_pb_column][/et_pb_row][/et_pb_section]
URL:https://akew.org/event/getting-down-to-business-local-rules-resources-readiness
LOCATION:Small Business Development Center – Mat-Su\, 201 North Lucille St #2\, Wasilla\, AK\, 99654\, United States
CATEGORIES:1. Idea,2. Pre-Profit,3. Profit,4. Growth,In-Person,Keynotes & Talks,Networking, Mixers & Social,Panels & Fireside Chats,Workshops & Trainings
ATTACH;FMTTYPE=image/jpeg:https://akew.org/wp-content/uploads/2024/04/sbdc.jpg
END:VEVENT
END:VCALENDAR