BEGIN:VCALENDAR
VERSION:2.0
PRODID:-//Ak Entrepreneurship Week - ECPv6.15.20//NONSGML v1.0//EN
CALSCALE:GREGORIAN
METHOD:PUBLISH
X-WR-CALNAME:Ak Entrepreneurship Week
X-ORIGINAL-URL:https://akew.org
X-WR-CALDESC:Events for Ak Entrepreneurship Week
REFRESH-INTERVAL;VALUE=DURATION:PT1H
X-Robots-Tag:noindex
X-PUBLISHED-TTL:PT1H
BEGIN:VTIMEZONE
TZID:America/Anchorage
BEGIN:DAYLIGHT
TZOFFSETFROM:-0900
TZOFFSETTO:-0800
TZNAME:AKDT
DTSTART:20240310T110000
END:DAYLIGHT
BEGIN:STANDARD
TZOFFSETFROM:-0800
TZOFFSETTO:-0900
TZNAME:AKST
DTSTART:20241103T100000
END:STANDARD
BEGIN:DAYLIGHT
TZOFFSETFROM:-0900
TZOFFSETTO:-0800
TZNAME:AKDT
DTSTART:20250309T110000
END:DAYLIGHT
BEGIN:STANDARD
TZOFFSETFROM:-0800
TZOFFSETTO:-0900
TZNAME:AKST
DTSTART:20251102T100000
END:STANDARD
BEGIN:DAYLIGHT
TZOFFSETFROM:-0900
TZOFFSETTO:-0800
TZNAME:AKDT
DTSTART:20260308T110000
END:DAYLIGHT
BEGIN:STANDARD
TZOFFSETFROM:-0800
TZOFFSETTO:-0900
TZNAME:AKST
DTSTART:20261101T100000
END:STANDARD
END:VTIMEZONE
BEGIN:VEVENT
DTSTART;TZID=America/Anchorage:20251002T090000
DTEND;TZID=America/Anchorage:20251002T163000
DTSTAMP:20260421T132525
CREATED:20250926T180715Z
LAST-MODIFIED:20250926T180719Z
UID:10000474-1759395600-1759422600@akew.org
SUMMARY:Fairbanks Industry Update Forum
DESCRIPTION:[et_pb_section fb_built=”1″ custom_padding_last_edited=”off|desktop” admin_label=”Hero” _builder_version=”4.16″ use_background_color_gradient=”on” background_color_gradient_stops=”#ffffff 0%|#e7edf9 100%” background_color_gradient_start=”#ffffff” background_color_gradient_end=”#e7edf9″ custom_margin=”|||” custom_padding=”100px||100px|” custom_padding_tablet=”130px||130px|” global_colors_info=”{}”][et_pb_row _builder_version=”4.27.4″ _module_preset=”default” global_colors_info=”{}”][et_pb_column type=”4_4″ _builder_version=”4.27.4″ _module_preset=”default” global_colors_info=”{}”][et_pb_text _builder_version=”4.27.4″ text_font=”||||||||” text_font_size=”20px” text_line_height=”1.8em” custom_margin=”25px|||” animation_style=”flip” animation_direction=”top” animation_delay=”100ms” hover_enabled=”0″ global_colors_info=”{}” sticky_enabled=”0″] \n\n\n\n\n\n\n\n\nJoin us for our 14th\, annual\, Fairbanks Industry Update Forum on the 2nd of October from 9am-4:30pm\, at the Wedgewood Resort \n \n\n\nHear from Santos\, Graphite One\, Alaska’s Department of Labor and Workforce Development\, Harves Midstream\, IGU\, Ambler Metals\, AGC Alaska\, MDF-Global/Felix Gold and NUNA\, LLC on AI for the Extractive World \n\n\nRegister on our website or follow the link below \n\n\n\n\n\n\n\n\n\n\n \n\n\n\n\n\n\n\n\n \n\n Additional information and registration:   HERE\n\n \n\n\n\n\n \n[/et_pb_text][/et_pb_column][/et_pb_row][/et_pb_section]
URL:https://akew.org/event/fairbanks-industry-update-forum
LOCATION:Wedgewood Resort\, 212 Wedgewood Drive\, Fairbanks\, 99701\, United States
CATEGORIES:2. Pre-Profit,3. Profit,4. Growth,In-Person,Keynotes & Talks,Networking, Mixers & Social,Panels & Fireside Chats,Policy & Ecosystem Discussions
ATTACH;FMTTYPE=image/jpeg:https://akew.org/wp-content/uploads/2025/09/554938580_1222500886585923_3798538189828278081_n.jpg
ORGANIZER;CN="The Alaska Support Industry Alliance":MAILTO:info@alaskaalliance.com
END:VEVENT
END:VCALENDAR