BEGIN:VCALENDAR
VERSION:2.0
PRODID:-//Ak Entrepreneurship Week - ECPv6.15.20//NONSGML v1.0//EN
CALSCALE:GREGORIAN
METHOD:PUBLISH
X-ORIGINAL-URL:https://akew.org
X-WR-CALDESC:Events for Ak Entrepreneurship Week
REFRESH-INTERVAL;VALUE=DURATION:PT1H
X-Robots-Tag:noindex
X-PUBLISHED-TTL:PT1H
BEGIN:VTIMEZONE
TZID:America/Anchorage
BEGIN:DAYLIGHT
TZOFFSETFROM:-0900
TZOFFSETTO:-0800
TZNAME:AKDT
DTSTART:20240310T110000
END:DAYLIGHT
BEGIN:STANDARD
TZOFFSETFROM:-0800
TZOFFSETTO:-0900
TZNAME:AKST
DTSTART:20241103T100000
END:STANDARD
BEGIN:DAYLIGHT
TZOFFSETFROM:-0900
TZOFFSETTO:-0800
TZNAME:AKDT
DTSTART:20250309T110000
END:DAYLIGHT
BEGIN:STANDARD
TZOFFSETFROM:-0800
TZOFFSETTO:-0900
TZNAME:AKST
DTSTART:20251102T100000
END:STANDARD
BEGIN:DAYLIGHT
TZOFFSETFROM:-0900
TZOFFSETTO:-0800
TZNAME:AKDT
DTSTART:20260308T110000
END:DAYLIGHT
BEGIN:STANDARD
TZOFFSETFROM:-0800
TZOFFSETTO:-0900
TZNAME:AKST
DTSTART:20261101T100000
END:STANDARD
END:VTIMEZONE
BEGIN:VEVENT
DTSTART;TZID=America/Anchorage:20250930T140000
DTEND;TZID=America/Anchorage:20250930T150000
DTSTAMP:20260421T113920
CREATED:20250903T030946Z
LAST-MODIFIED:20250924T021440Z
UID:10000034-1759240800-1759244400@akew.org
SUMMARY:Vibe Coding: Remind me why I care?
DESCRIPTION:[et_pb_section fb_built=”1″ custom_padding_last_edited=”off|desktop” admin_label=”Hero” _builder_version=”4.16″ use_background_color_gradient=”on” background_color_gradient_stops=”#ffffff 0%|#e7edf9 100%” background_color_gradient_start=”#ffffff” background_color_gradient_end=”#e7edf9″ custom_margin=”|||” custom_padding=”100px||100px|” custom_padding_tablet=”130px||130px|” global_colors_info=”{}”][et_pb_row admin_label=”title and illustration” _builder_version=”4.16″ background_size=”initial” background_position=”top_left” background_repeat=”repeat” custom_margin=”|||” global_colors_info=”{}”][et_pb_column type=”4_4″ _builder_version=”4.16″ custom_padding=”|||” global_colors_info=”{}” custom_padding__hover=”|||”][et_pb_text _builder_version=”4.27.4″ text_font=”||||||||” text_font_size=”20px” text_line_height=”1.8em” custom_margin=”25px|||” animation_style=”flip” animation_direction=”top” animation_delay=”100ms” global_colors_info=”{}”] \nBuild your first site using generative AI\n \nAI makes building more accessible than ever. Using AI to write code is something increasingly referred to as “vibe coding”.\n \nIn this workshop\, you’ll discover how to use natural language prompts to generate code and quickly build functional\, tailored digital tools. We’ll be using Lovable as our platform of choice\, and you’ll learn how to shape your applications simply by describing what you want them to do.\n \nThis is an introductory workshop\, so if you are hearing the term “vibe code” for the first time but want to start using AI to build – this is the perfect place for you.\n \n \n \nNOTE: Google Meet link and join over the phone options WILL NOT WORK until the event starts.\n  \n[/et_pb_text][/et_pb_column][/et_pb_row][/et_pb_section][et_pb_section fb_built=”1″ admin_label=”Speakers” _builder_version=”4.16″ custom_padding=”90px||90px|” animation_style=”zoom” animation_intensity_zoom=”10%” global_colors_info=”{}”][et_pb_row column_structure=”1_2\,1_2″ _builder_version=”4.16″ custom_margin=”|||” custom_padding=”40px|0px|40px|0px” global_colors_info=”{}”][et_pb_column type=”1_2″ _builder_version=”4.16″ custom_padding=”|||” global_colors_info=”{}” custom_padding__hover=”|||”][et_pb_image src=”https://akew.org/wp-content/uploads/2025/09/Sam-Fife-FILEminimizer.jpeg” title_text=”Sam Fife (FILEminimizer)” _builder_version=”4.27.4″ _module_preset=”default” global_colors_info=”{}”][/et_pb_image][/et_pb_column][et_pb_column type=”1_2″ _builder_version=”4.16″ custom_padding=”|||” global_colors_info=”{}” custom_padding__hover=”|||”][et_pb_text _builder_version=”4.27.4″ text_font=”||||||||” text_text_color=”#7e7f93″ text_font_size=”18px” header_font=”||||||||” header_3_font=”Merriweather|700|||||||” header_3_text_color=”#4646c4″ header_3_font_size=”36px” header_3_line_height=”1.4em” link_option_url=”https://www.linkedin.com/in/allancarraway/” link_option_url_new_window=”on” locked=”off” global_colors_info=”{}”] \nSam Fife\nDirector of InnovationBetter Business Bureau \n[/et_pb_text][et_pb_text _builder_version=”4.27.4″ text_font=”||||||||” text_font_size=”18px” text_line_height=”1.8em” global_colors_info=”{}”] \n\nSam Fife has spent over five years working in business innovation at the Better Business Bureau.  \nHis passion is in connecting with good business owners and helping them succeed. Sam brings a background in peacebuilding and conflict resolution with professional experience in three continents.\nAs an innovation director\, he has the opportunity to test out new tools and technologies\, including various uses for generative AI and can’t wait to share some powerful yet accessible tools with you all!\n\n[/et_pb_text][/et_pb_column][/et_pb_row][/et_pb_section]
URL:https://akew.org/event/vibe-coding-intro-but-practical
LOCATION:Small Business Development Center – Anchorage\, 1901 Bragaw St Suite 199\, Anchorage\, AK\, 99508\, United States
CATEGORIES:2. Pre-Profit,3. Profit,4. Growth,Online (Virtual),Resource Fairs & Info Sessions,Resources & Ecosystem,Skills & Learning,Workshops & Trainings
ATTACH;FMTTYPE=image/png:https://akew.org/wp-content/uploads/2024/04/bbb.png
END:VEVENT
END:VCALENDAR